1
0
0
-1
1931446.5
395486.5
