1
0
0
-1
1936795.5
400746.5
