1
0
0
-1
1931481.5
400735.5
