1
0
0
-1
1926216.5
400744.5
