1
0
0
-1
1915855.5
416695.5
