1
0
0
-1
1909979.5
369316.5
