1
0
0
-1
1883885.5
373948.5
