1
0
0
-1
1894400.5
374007.5
