1
0
0
-1
1899670.5
374448.5
