1
0
0
-1
1894399.5
379861.5
