1
0
0
-1
1889000.5
379863.5
