1
0
0
-1
1889000.5
385178.5
